BEGIN:VCALENDAR
VERSION:2.0
PRODID:-//Security Agents Institute of Western Australia - ECPv6.15.13.1//NONSGML v1.0//EN
CALSCALE:GREGORIAN
METHOD:PUBLISH
X-WR-CALNAME:Security Agents Institute of Western Australia
X-ORIGINAL-URL:https://www.saiwa.asn.au
X-WR-CALDESC:Events for Security Agents Institute of Western Australia
REFRESH-INTERVAL;VALUE=DURATION:PT1H
X-Robots-Tag:noindex
X-PUBLISHED-TTL:PT1H
BEGIN:VTIMEZONE
TZID:UTC
BEGIN:STANDARD
TZOFFSETFROM:+0000
TZOFFSETTO:+0000
TZNAME:UTC
DTSTART:20150101T000000
END:STANDARD
END:VTIMEZONE
BEGIN:VEVENT
DTSTART;TZID=UTC:20240927T073000
DTEND;TZID=UTC:20240927T073000
DTSTAMP:20260425T022851
CREATED:20240723T230138Z
LAST-MODIFIED:20240902T182929Z
UID:12788-1727422200-1727422200@www.saiwa.asn.au
SUMMARY:SAIWA Breakfast
DESCRIPTION:
URL:https://www.saiwa.asn.au/event/saiwa-breakfast/
CATEGORIES:SAIWA Breakfast
END:VEVENT
BEGIN:VEVENT
DTSTART;TZID=UTC:20161104T120000
DTEND;TZID=UTC:20161104T183000
DTSTAMP:20260425T022851
CREATED:20161018T214318Z
LAST-MODIFIED:20161018T215444Z
UID:11933-1478260800-1478284200@www.saiwa.asn.au
SUMMARY:SAIWA JIM KING CORPORATE GOLF DAY
DESCRIPTION:PUT THIS IN YOU DIARY NOW!\nWe are pleased to advise that the SAIWA Jim King Corporate Golf Day will be held on Friday 4TH November 12:00 Noon -6:30pm at the Maylands Golf Club. \nThe SAIWA Corporate Golf Day is a great event where businesses have an excellent opportunity to network. \nWhat a better way to provide your staff with a ‘team bonding’ exercise\, or reward your clients for their loyalty\, or just to finish the week on a good note!! \nSpecial prize for ‘hole in one’ – Toyoto – to the value of $45\,000 – gotta be in it to win it! \nLunch & Buffet Dinner provided & Trophy Presentation for the winning teams. \n4th November 2016\nTime: 12:00 Noon – 6:30pm\nVenue: Maylands Golf Club\, Swan Bank Road\, Maylands.\nCost: Will be $143 ( Inc.GST ) \nRegistration form available for download please click here
URL:https://www.saiwa.asn.au/event/saiwa-jim-king-corporate-golf-day/
LOCATION:Maylands Golf Club\, Maylands Peninsula Golf Course\, Swan Bank Road\, Maylands\, WA\, 6051\, Australia
ORGANIZER;CN="Security Agents Institute of Western Australia":MAILTO:info@saiwa.asn.au
END:VEVENT
END:VCALENDAR